BEGIN:VCALENDAR
BEGIN:VEVENT
SUMMARY:Funeral notice for IKIN\, John William
DTSTART:20260420T000000
DTEND:20260421T000000
DTSTAMP:20260420T105120Z
UID:6354170
DESCRIPTION:For the Funeral time and location details\, please view the no
 tice on the My Tributes site. (https://www.benallaensign.com.au/tributes/n
 otice/funeral-notices/ikin-john-william/6354170/)
END:VEVENT
END:VCALENDAR
