BEGIN:VCALENDAR
BEGIN:VEVENT
SUMMARY:Funeral notice for CLARKE\, Donald Frank
DTSTART:20260427T000000
DTEND:20260428T000000
DTSTAMP:20260423T110451Z
UID:6354389
DESCRIPTION:For the Funeral time and location details\, please view the no
 tice on the My Tributes site. (https://www.benallaensign.com.au/tributes/n
 otice/funeral-notices/clarke-donald-frank/6354389/)
END:VEVENT
END:VCALENDAR
